BEGIN:VCALENDAR
VERSION:2.0
PRODID:-//YOUng Musical Academy - ECPv6.15.20//NONSGML v1.0//EN
CALSCALE:GREGORIAN
METHOD:PUBLISH
X-ORIGINAL-URL:https://young-musical-academy.de
X-WR-CALDESC:Veranstaltungen für YOUng Musical Academy
REFRESH-INTERVAL;VALUE=DURATION:PT1H
X-Robots-Tag:noindex
X-PUBLISHED-TTL:PT1H
BEGIN:VTIMEZONE
TZID:Europe/Berlin
BEGIN:DAYLIGHT
TZOFFSETFROM:+0100
TZOFFSETTO:+0200
TZNAME:CEST
DTSTART:20240331T010000
END:DAYLIGHT
BEGIN:STANDARD
TZOFFSETFROM:+0200
TZOFFSETTO:+0100
TZNAME:CET
DTSTART:20241027T010000
END:STANDARD
BEGIN:DAYLIGHT
TZOFFSETFROM:+0100
TZOFFSETTO:+0200
TZNAME:CEST
DTSTART:20250330T010000
END:DAYLIGHT
BEGIN:STANDARD
TZOFFSETFROM:+0200
TZOFFSETTO:+0100
TZNAME:CET
DTSTART:20251026T010000
END:STANDARD
BEGIN:DAYLIGHT
TZOFFSETFROM:+0100
TZOFFSETTO:+0200
TZNAME:CEST
DTSTART:20260329T010000
END:DAYLIGHT
BEGIN:STANDARD
TZOFFSETFROM:+0200
TZOFFSETTO:+0100
TZNAME:CET
DTSTART:20261025T010000
END:STANDARD
BEGIN:DAYLIGHT
TZOFFSETFROM:+0100
TZOFFSETTO:+0200
TZNAME:CEST
DTSTART:20270328T010000
END:DAYLIGHT
BEGIN:STANDARD
TZOFFSETFROM:+0200
TZOFFSETTO:+0100
TZNAME:CET
DTSTART:20271031T010000
END:STANDARD
BEGIN:DAYLIGHT
TZOFFSETFROM:+0100
TZOFFSETTO:+0200
TZNAME:CEST
DTSTART:20280326T010000
END:DAYLIGHT
BEGIN:STANDARD
TZOFFSETFROM:+0200
TZOFFSETTO:+0100
TZNAME:CET
DTSTART:20281029T010000
END:STANDARD
END:VTIMEZONE
BEGIN:VEVENT
DTSTART;TZID=Europe/Berlin:20250901T160000
DTEND;TZID=Europe/Berlin:20270420T173000
DTSTAMP:20260422T142026
CREATED:20250726T075251Z
LAST-MODIFIED:20260107T080327Z
UID:2032-1756742400-1808242200@young-musical-academy.de
SUMMARY:ALADDIN - Kindermusical Barsbüttel
DESCRIPTION:Kontakt aufnehmen\n			\n				\n				\n				\n				\n				Das Musical nach dem Märchen aus „Tausendundeine Nacht“ \nAladdin ist ein gutherziger Dieb\, der sich mit seinem Affen Abu auf den Straßen der großen\, geschäftigen Stadt Agrabah durchs Leben schlägt. Als er zum ersten Mal die Tochter des Sultans\, Prinzessin Yasmin erblickt\, verliebt er sich sofort in sie. Scheinbar zufällig gelangt Aladdin in den Besitz einer wundersamen Lampe\, aus der der Flaschengeist Dschinni emporsteigt. Der Lampengeist schenkt seinem Befreier aus der Gefangenschaft drei Wünsche. Aladdin wünscht sich sogleich in einen Prinzen verwandelt zu werden\, damit er Yasmin heiraten kann. \nMit den magischen Kräften des Lampengeistes scheint alles nach Aladdins Plan zu laufen\, doch im Hintergrund zieht heimlich der Großwesir Jaffar seine Fäden. Dem hinterhältigen Großwesir war es nicht möglich\, an die Wunderlampe zu kommen\, also hat er dafür gesorgt\, daß sie in Aladdins Hände gerät. Nun hat es Jaffar auf die Wunderlampe und auf die schöne Yasmin abgesehen … \n			\n				\n				\n				\n				\n				Das Projekt \n\nWöchentliche Probe\nWochenendworkshops in Gesang\, Tanz\, Bühnen- & Kostümgestaltung\nÜbernachtungswochenende\nAufführungen auf großen Bühnen\nTeilnehmerbeiträge und weitere Infos unter 040 / 60 90 20 20\n\nKomm und mach mit! Kostenloser Schnuppertermin!
URL:https://young-musical-academy.de/event/aladdin-kindermusical-barsbuettel/
LOCATION:Musikschule Barsbüttel\, Hauptstraße 25 b-c\, Barsbüttel\, Hamburg\, 22885\, Deutschland
ATTACH;FMTTYPE=image/jpeg:https://young-musical-academy.de/wp-content/uploads/2025/07/BA-Aladdin-A5_2_web.jpg
ORGANIZER;CN="YOU!ng Musical Academy":MAILTO:info@young-musical-academy.de
END:VEVENT
BEGIN:VEVENT
DTSTART;TZID=Europe/Berlin:20250901T160000
DTEND;TZID=Europe/Berlin:20270419T173000
DTSTAMP:20260422T142026
CREATED:20250726T075419Z
LAST-MODIFIED:20260107T080554Z
UID:2031-1756742400-1808155800@young-musical-academy.de
SUMMARY:ALADDIN - Kindermusical Bergstedt/Buckhorn
DESCRIPTION:Kontakt aufnehmen\n			\n				\n				\n				\n				\n				Das Musical nach dem Märchen aus „Tausendundeine Nacht“ \nAladdin ist ein gutherziger Dieb\, der sich mit seinem Affen Abu auf den Straßen der großen\, geschäftigen Stadt Agrabah durchs Leben schlägt. Als er zum ersten Mal die Tochter des Sultans\, Prinzessin Yasmin erblickt\, verliebt er sich sofort in sie. Scheinbar zufällig gelangt Aladdin in den Besitz einer wundersamen Lampe\, aus der der Flaschengeist Dschinni emporsteigt. Der Lampengeist schenkt seinem Befreier aus der Gefangenschaft drei Wünsche. Aladdin wünscht sich sogleich in einen Prinzen verwandelt zu werden\, damit er Yasmin heiraten kann. \nMit den magischen Kräften des Lampengeistes scheint alles nach Aladdins Plan zu laufen\, doch im Hintergrund zieht heimlich der Großwesir Jaffar seine Fäden. Dem hinterhältigen Großwesir war es nicht möglich\, an die Wunderlampe zu kommen\, also hat er dafür gesorgt\, daß sie in Aladdins Hände gerät. Nun hat es Jaffar auf die Wunderlampe und auf die schöne Yasmin abgesehen … \n			\n				\n				\n				\n				\n				Das Projekt \n\nWöchentliche Probe\nWochenendworkshops in Gesang\, Tanz\, Bühnen- & Kostümgestaltung\nÜbernachtungswochenende\nAufführungen auf großen Bühnen\nTeilnehmerbeiträge und weitere Infos unter 040 / 60 90 20 20\n\nKomm und mach mit! Kostenloser Schnuppertermin!
URL:https://young-musical-academy.de/event/aladdin-kindermusical-bergstedt-buckhorn/
LOCATION:Gymnasium Buckhorn\, Im Regestall 25\, Hamburg\, Hamburg\, 22359
ATTACH;FMTTYPE=image/jpeg:https://young-musical-academy.de/wp-content/uploads/2025/07/BE-Aladdin-A5_2_web.jpg
ORGANIZER;CN="YOU!ng Musical Academy":MAILTO:info@young-musical-academy.de
END:VEVENT
BEGIN:VEVENT
DTSTART;TZID=Europe/Berlin:20260530T180000
DTEND;TZID=Europe/Berlin:20260530T203000
DTSTAMP:20260422T142026
CREATED:20260401T080017Z
LAST-MODIFIED:20260419T145913Z
UID:2912-1780164000-1780173000@young-musical-academy.de
SUMMARY:FOOTLOOSE
DESCRIPTION:Der Vorverkauf startet am 27. April\n			\n				\n				\n				\n				\n				Tickets mit Saalplanbuchung:\n			\n				Tickets\n			\n				\n				\n				\n				\n				Für Schulklassen gibt es vergünstigte Tarife! Bei Interesse einfach das Schulklassenangebot anfragen:\n			\n				Angebot Schulklassen\n			\n				\n				\n				\n				\n				Telefonische Kartenreservierung: 040 / 60 90 20 20\n			\n				\n				\n				\n				\n				\n\nFOOTLOOSE – Das Musical\nIm Jahre 1984 tanzte Kevin Bacon als Ren McCormack im Kino gegen Spießertum und überkommene Moralvorstellungen. Aus dem vielzitierten Kultfilm wurde ein Kultmusical mit über 700 Vorstellungen am Broadway! Wir lassen dier 80er wieder aufleben mit legendären Hits wie HOLDING OUT FOR A HERO\, LET’S HEAR IT FOR THE BOY und dem Titelsong FOOTLOOSE! \nInhalt\nRen McCormack ist ein leidenschaftlicher Tänzer aus Chicago. Als der Teenager zusammen mit seiner Mutter zu seinem Onkel ins verschlafene Bomont zieht\, muss er schnell feststellen\, dass seine Leidenschaft nicht überall gern gesehen wird. In dem Südstaatenörtchen ist laute Rockmusik grundsätzlich verboten. Diese Regeln wurden Gesetz\, nachdem fünf Jahre zuvor vier Teenager auf dem Heimweg von einer Party einen tödlichen Autounfall hatten. Unter den Opfern befand sich auch der Sohn des Reverends Shaw Moore\, der der eifrigste Verfechter des Tanzverbots ist. \nAber der Prediger hat Schwierigkeiten\, seine Regeln im eigenen Haus durchzusetzen\, denn seine Tochter Ariel rebelliert gegen die Vorschriften. Als Ren sich an offizieller Stelle für eine Aufhebung des Tanzbanns einsetzt\, findet er in Ariel eine unerwartete Verbündete… \n\n\n\n\nAlle Termine\n\n30. Mai ’26 | 18 Uhr\n31. Mai ’26 | 16 UhrStadtteilschule WalddörferAhrensburger Weg 30\, Hamburg\n\n\n13. Juni ’26 | 18 Uhr\n14. Juni ’26 | 16 UhrAlfred-Rust-SaalWulfsdorfer Weg 71\, Ahrensburg
URL:https://young-musical-academy.de/event/footloose/
LOCATION:Stadtteilschule Walddörfer\, Ahrensburger Weg 30\, Hamburg\, 22359\, Deutschland
ATTACH;FMTTYPE=image/jpeg:https://young-musical-academy.de/wp-content/uploads/2026/04/Footloose-Auffuehrungen-Beitragsbild_web.jpg
END:VEVENT
BEGIN:VEVENT
DTSTART;TZID=Europe/Berlin:20260531T160000
DTEND;TZID=Europe/Berlin:20260601T183000
DTSTAMP:20260422T142026
CREATED:20260401T082155Z
LAST-MODIFIED:20260419T145929Z
UID:2926-1780243200-1780338600@young-musical-academy.de
SUMMARY:FOOTLOOSE
DESCRIPTION:Der Vorverkauf startet am 27. April\n			\n				\n				\n				\n				\n				Tickets mit Saalplanbuchung:\n			\n				Tickets\n			\n				\n				\n				\n				\n				Für Schulklassen gibt es vergünstigte Tarife! Bei Interesse einfach das Schulklassenangebot anfragen:\n			\n				Angebot Schulklassen\n			\n				\n				\n				\n				\n				Telefonische Kartenreservierung: 040 / 60 90 20 20\n			\n				\n				\n				\n				\n				\n\nFOOTLOOSE – Das Musical\nIm Jahre 1984 tanzte Kevin Bacon als Ren McCormack im Kino gegen Spießertum und überkommene Moralvorstellungen. Aus dem vielzitierten Kultfilm wurde ein Kultmusical mit über 700 Vorstellungen am Broadway! Wir lassen dier 80er wieder aufleben mit legendären Hits wie HOLDING OUT FOR A HERO\, LET’S HEAR IT FOR THE BOY und dem Titelsong FOOTLOOSE! \nInhalt\nRen McCormack ist ein leidenschaftlicher Tänzer aus Chicago. Als der Teenager zusammen mit seiner Mutter zu seinem Onkel ins verschlafene Bomont zieht\, muss er schnell feststellen\, dass seine Leidenschaft nicht überall gern gesehen wird. In dem Südstaatenörtchen ist laute Rockmusik grundsätzlich verboten. Diese Regeln wurden Gesetz\, nachdem fünf Jahre zuvor vier Teenager auf dem Heimweg von einer Party einen tödlichen Autounfall hatten. Unter den Opfern befand sich auch der Sohn des Reverends Shaw Moore\, der der eifrigste Verfechter des Tanzverbots ist. \nAber der Prediger hat Schwierigkeiten\, seine Regeln im eigenen Haus durchzusetzen\, denn seine Tochter Ariel rebelliert gegen die Vorschriften. Als Ren sich an offizieller Stelle für eine Aufhebung des Tanzbanns einsetzt\, findet er in Ariel eine unerwartete Verbündete… \n\n\n\n\nAlle Termine\n\n30. Mai ’26 | 18 Uhr\n31. Mai ’26 | 16 UhrStadtteilschule WalddörferAhrensburger Weg 30\, Hamburg\n\n\n13. Juni ’26 | 18 Uhr\n14. Juni ’26 | 16 UhrAlfred-Rust-SaalWulfsdorfer Weg 71\, Ahrensburg
URL:https://young-musical-academy.de/event/footloose-2/
LOCATION:Stadtteilschule Walddörfer\, Ahrensburger Weg 30\, Hamburg\, 22359\, Deutschland
ATTACH;FMTTYPE=image/jpeg:https://young-musical-academy.de/wp-content/uploads/2026/04/Footloose-Auffuehrungen-Beitragsbild_web.jpg
END:VEVENT
END:VCALENDAR